BEGIN:VCALENDAR
VERSION:2.0
PRODID:-//RECU - ECPv6.15.20//NONSGML v1.0//EN
CALSCALE:GREGORIAN
METHOD:PUBLISH
X-WR-CALNAME:RECU
X-ORIGINAL-URL:https://recu.org
X-WR-CALDESC:Events for RECU
REFRESH-INTERVAL;VALUE=DURATION:PT1H
X-Robots-Tag:noindex
X-PUBLISHED-TTL:PT1H
BEGIN:VTIMEZONE
TZID:UTC
BEGIN:STANDARD
TZOFFSETFROM:+0000
TZOFFSETTO:+0000
TZNAME:UTC
DTSTART:20230101T000000
END:STANDARD
END:VTIMEZONE
BEGIN:VTIMEZONE
TZID:America/Denver
BEGIN:DAYLIGHT
TZOFFSETFROM:-0700
TZOFFSETTO:-0600
TZNAME:MDT
DTSTART:20230312T090000
END:DAYLIGHT
BEGIN:STANDARD
TZOFFSETFROM:-0600
TZOFFSETTO:-0700
TZNAME:MST
DTSTART:20231105T080000
END:STANDARD
BEGIN:DAYLIGHT
TZOFFSETFROM:-0700
TZOFFSETTO:-0600
TZNAME:MDT
DTSTART:20240310T090000
END:DAYLIGHT
BEGIN:STANDARD
TZOFFSETFROM:-0600
TZOFFSETTO:-0700
TZNAME:MST
DTSTART:20241103T080000
END:STANDARD
BEGIN:DAYLIGHT
TZOFFSETFROM:-0700
TZOFFSETTO:-0600
TZNAME:MDT
DTSTART:20250309T090000
END:DAYLIGHT
BEGIN:STANDARD
TZOFFSETFROM:-0600
TZOFFSETTO:-0700
TZNAME:MST
DTSTART:20251102T080000
END:STANDARD
END:VTIMEZONE
BEGIN:VEVENT
DTSTART;VALUE=DATE:20241129
DTEND;VALUE=DATE:20241130
DTSTAMP:20260422T142011
CREATED:20241113T031739Z
LAST-MODIFIED:20241113T031739Z
UID:328-1732838400-1732924799@recu.org
SUMMARY:Closed
DESCRIPTION:
URL:https://recu.org/event/closed/
END:VEVENT
BEGIN:VEVENT
DTSTART;VALUE=DATE:20241128
DTEND;VALUE=DATE:20241129
DTSTAMP:20260422T142011
CREATED:20241113T031138Z
LAST-MODIFIED:20241113T032612Z
UID:320-1732752000-1732838399@recu.org
SUMMARY:Thanks Giving
DESCRIPTION:CLOSED
URL:https://recu.org/event/thanks-giving/
END:VEVENT
BEGIN:VEVENT
DTSTART;TZID=UTC:20241121T080000
DTEND;TZID=UTC:20241121T170000
DTSTAMP:20260422T142011
CREATED:20241113T031644Z
LAST-MODIFIED:20241113T031644Z
UID:326-1732176000-1732208400@recu.org
SUMMARY:Free Webinar
DESCRIPTION:NOVEMBER – UNWRAPPING THE HOLIDAY SCAM SEASON\nDon’t let scammers steal your holiday spirit! Unwrap the knowledge and tools needed to protect you and your loved ones from holiday scammers. Learn how to identify the red flags\, utilize safe online shopping techniques\, and the steps to take if you do become a victim.
URL:https://recu.org/event/free-webinar/
END:VEVENT
END:VCALENDAR