BEGIN:VCALENDAR
VERSION:2.0
PRODID:-//RECU - ECPv6.15.19//NONSGML v1.0//EN
CALSCALE:GREGORIAN
METHOD:PUBLISH
X-ORIGINAL-URL:https://recu.org
X-WR-CALDESC:Events for RECU
REFRESH-INTERVAL;VALUE=DURATION:PT1H
X-Robots-Tag:noindex
X-PUBLISHED-TTL:PT1H
BEGIN:VTIMEZONE
TZID:UTC
BEGIN:STANDARD
TZOFFSETFROM:+0000
TZOFFSETTO:+0000
TZNAME:UTC
DTSTART:20240101T000000
END:STANDARD
END:VTIMEZONE
BEGIN:VEVENT
DTSTART;TZID=UTC:20251113T173000
DTEND;TZID=UTC:20251113T183000
DTSTAMP:20260420T072047
CREATED:20250910T174608Z
LAST-MODIFIED:20250910T174608Z
UID:2814-1763055000-1763058600@recu.org
SUMMARY:Webinar
DESCRIPTION:Safeguarding Seniors: Strategies to Combat Elder Financial Exploitation:\n\nElder financial exploitation is a growing concern that affects millions of seniors each year. Learn about common tactics used by scammers\, how to recognize the signs of financial abuse\, and practical steps to take if you suspect someone you know is being exploited.
URL:https://recu.org/event/webinar-8/
END:VEVENT
BEGIN:VEVENT
DTSTART;VALUE=DATE:20251111
DTEND;VALUE=DATE:20251112
DTSTAMP:20260420T072047
CREATED:20250910T165747Z
LAST-MODIFIED:20250910T165747Z
UID:2797-1762819200-1762905599@recu.org
SUMMARY:Veterans Day - Closed
DESCRIPTION:
URL:https://recu.org/event/veterans-day-closed/
END:VEVENT
BEGIN:VEVENT
DTSTART;TZID=UTC:20251104T103000
DTEND;TZID=UTC:20251104T113000
DTSTAMP:20260420T072047
CREATED:20250910T173952Z
LAST-MODIFIED:20250910T173952Z
UID:2810-1762252200-1762255800@recu.org
SUMMARY:Webinar
DESCRIPTION:Safeguarding Seniors: Strategies to Combat Elder Financial Exploitation:\n\nElder financial exploitation is a growing concern that affects millions of seniors each year. Learn about common tactics used by scammers\, how to recognize the signs of financial abuse\, and practical steps to take if you suspect someone you know is being exploited.
URL:https://recu.org/event/webinar-7/
END:VEVENT
BEGIN:VEVENT
DTSTART;TZID=UTC:20251018T100000
DTEND;TZID=UTC:20251018T150000
DTSTAMP:20260420T072047
CREATED:20250926T174910Z
LAST-MODIFIED:20250926T174910Z
UID:2877-1760781600-1760799600@recu.org
SUMMARY:Puppies & Pizza
DESCRIPTION:
URL:https://recu.org/event/puppies-pizza/
ATTACH;FMTTYPE=image/png:https://recu.org/wp-content/uploads/2025/09/RECU-PuppiesPizza-2025-Facebook-Post.png
END:VEVENT
BEGIN:VEVENT
DTSTART;TZID=UTC:20251016T173000
DTEND;TZID=UTC:20251016T183000
DTSTAMP:20260420T072047
CREATED:20250910T170948Z
LAST-MODIFIED:20250910T170948Z
UID:2807-1760635800-1760639400@recu.org
SUMMARY:Webinar
DESCRIPTION:Federal vs. Private Student Loans:\n\nThis workshop explains key differences between federal and private student loans\, and compares eligibility\, interest rates\, repayment plans and more. Participants will learn how to choose the option that best suits their needs.
URL:https://recu.org/event/webinar-4/
END:VEVENT
BEGIN:VEVENT
DTSTART;TZID=UTC:20251007T103000
DTEND;TZID=UTC:20251007T113000
DTSTAMP:20260420T072047
CREATED:20250910T170535Z
LAST-MODIFIED:20250910T170535Z
UID:2801-1759833000-1759836600@recu.org
SUMMARY:Webinar
DESCRIPTION:Federal vs. Private Student Loans\n\nThis workshop explains key differences between federal and private student loans\, and compares eligibility\, interest rates\, repayment plans and more. Participants will learn how to choose the option that best suits their needs.
URL:https://recu.org/event/webinar-5/
END:VEVENT
BEGIN:VEVENT
DTSTART;TZID=UTC:20250918T173000
DTEND;TZID=UTC:20250918T183000
DTSTAMP:20260420T072047
CREATED:20250910T170707Z
LAST-MODIFIED:20250910T170707Z
UID:2803-1758216600-1758220200@recu.org
SUMMARY:Webinar
DESCRIPTION:Finances for New Families\n\nGetting married. Having kids. These are natural progressions in life for many\, but also present new financial situations and decisions to make immediately\, and for the long term. This session will help you discover\, prioritize\, and design a workable plan for your family’s goals and lifestyle
URL:https://recu.org/event/webinar-6/
END:VEVENT
BEGIN:VEVENT
DTSTART;VALUE=DATE:20250901
DTEND;VALUE=DATE:20250902
DTSTAMP:20260420T072047
CREATED:20250702T201635Z
LAST-MODIFIED:20250702T201635Z
UID:2547-1756684800-1756771199@recu.org
SUMMARY:Labor Day - Closed
DESCRIPTION:
URL:https://recu.org/event/labor-day-closed/
END:VEVENT
BEGIN:VEVENT
DTSTART;TZID=UTC:20250821T173000
DTEND;TZID=UTC:20250821T183000
DTSTAMP:20260420T072047
CREATED:20250722T151950Z
LAST-MODIFIED:20250722T152127Z
UID:2688-1755797400-1755801000@recu.org
SUMMARY:Webinar
DESCRIPTION:Raising a Money Smart Kid — Back to School Edition\n\nEarning money\, spending and saving are important lessons children learn very early on in life. This session will help guide parents on effective ways to educate children about financial responsibility that can last a lifetime.
URL:https://recu.org/event/webinar-2/
ATTACH;FMTTYPE=image/png:https://recu.org/wp-content/uploads/2025/07/8.13.25.png
END:VEVENT
BEGIN:VEVENT
DTSTART;TZID=UTC:20250813T100000
DTEND;TZID=UTC:20250813T133000
DTSTAMP:20260420T072047
CREATED:20250722T144348Z
LAST-MODIFIED:20250722T152151Z
UID:2684-1755079200-1755091800@recu.org
SUMMARY:Blood Drive!
DESCRIPTION:
URL:https://recu.org/event/blood-drive-2/
ATTACH;FMTTYPE=image/png:https://recu.org/wp-content/uploads/2025/07/blood-drive-8.13.25-scaled.png
END:VEVENT
BEGIN:VEVENT
DTSTART;TZID=UTC:20250812T103000
DTEND;TZID=UTC:20250812T233000
DTSTAMP:20260420T072047
CREATED:20250722T152326Z
LAST-MODIFIED:20250722T152341Z
UID:2692-1754994600-1755041400@recu.org
SUMMARY:Webinar
DESCRIPTION:Raising a Money Smart Kid — Back to School Edition\n\nEarning money\, spending and saving are important lessons children learn very early on in life. This session will help guide parents on effective ways to educate children about financial responsibility that can last a lifetime.
URL:https://recu.org/event/webinar-3/
ATTACH;FMTTYPE=image/png:https://recu.org/wp-content/uploads/2025/07/8.13.25.png
END:VEVENT
BEGIN:VEVENT
DTSTART;TZID=UTC:20250717T183000
DTEND;TZID=UTC:20250717T193000
DTSTAMP:20260420T072047
CREATED:20250702T201333Z
LAST-MODIFIED:20250702T201333Z
UID:2540-1752777000-1752780600@recu.org
SUMMARY:Webinar - Mastering the Gig Economy
DESCRIPTION:If you do gig work\, you know how tricky it can get on the money management side of things. In this jampacked presentation you’ll learn how to take control of your financials and get actionable steps for simplifying healthcare\, retirement\, taxes\, budgeting\, savings\, and more. Register Here! 
URL:https://recu.org/event/webinar-mastering-the-gig-economy-2/
END:VEVENT
BEGIN:VEVENT
DTSTART;TZID=UTC:20250708T113000
DTEND;TZID=UTC:20250708T123000
DTSTAMP:20260420T072047
CREATED:20250702T201213Z
LAST-MODIFIED:20250702T201213Z
UID:2538-1751974200-1751977800@recu.org
SUMMARY:Webinar - Mastering the Gig Economy
DESCRIPTION:If you do gig work\, you know how tricky it can get on the money management side of things. In this jam-packed presentation you’ll learn how to take control of your financials and get actionable steps for simplifying healthcare\, retirement\, taxes\, budgeting\, savings\, and more. Register here!
URL:https://recu.org/event/webinar-mastering-the-gig-economy/
END:VEVENT
BEGIN:VEVENT
DTSTART;VALUE=DATE:20250707
DTEND;VALUE=DATE:20250708
DTSTAMP:20260420T072047
CREATED:20250702T201559Z
LAST-MODIFIED:20250702T201721Z
UID:2544-1751846400-1751932799@recu.org
SUMMARY:School Supply Giveaway BEGINS!
DESCRIPTION:
URL:https://recu.org/event/school-supply-giveaway-begins/
ATTACH;FMTTYPE=image/png:https://recu.org/wp-content/uploads/2025/07/RECU-2025-School-Supply-Giveaway-Facebook-Post.png
END:VEVENT
BEGIN:VEVENT
DTSTART;VALUE=DATE:20250704
DTEND;VALUE=DATE:20250705
DTSTAMP:20260420T072047
CREATED:20250702T201407Z
LAST-MODIFIED:20250702T201407Z
UID:2542-1751587200-1751673599@recu.org
SUMMARY:Independence Day - Closed
DESCRIPTION:
URL:https://recu.org/event/independence-day-closed/
END:VEVENT
BEGIN:VEVENT
DTSTART;TZID=UTC:20250621T090000
DTEND;TZID=UTC:20250621T120000
DTSTAMP:20260420T072047
CREATED:20250325T220813Z
LAST-MODIFIED:20250611T201636Z
UID:1266-1750496400-1750507200@recu.org
SUMMARY:Shred Day
DESCRIPTION:
URL:https://recu.org/event/shred-day/
ATTACH;FMTTYPE=image/png:https://recu.org/wp-content/uploads/2025/03/RECU-Shred-it-2025.png
END:VEVENT
BEGIN:VEVENT
DTSTART;TZID=UTC:20250620T090000
DTEND;TZID=UTC:20250620T150000
DTSTAMP:20260420T072047
CREATED:20250611T201457Z
LAST-MODIFIED:20250611T201457Z
UID:2260-1750410000-1750431600@recu.org
SUMMARY:Member+ Launch!
DESCRIPTION:
URL:https://recu.org/event/member-launch/
ATTACH;FMTTYPE=image/png:https://recu.org/wp-content/uploads/2025/06/RECU-MemberPlus-launch-flyer.png
END:VEVENT
BEGIN:VEVENT
DTSTART;TZID=UTC:20250612T173000
DTEND;TZID=UTC:20250612T183000
DTSTAMP:20260420T072047
CREATED:20250611T201312Z
LAST-MODIFIED:20250611T201312Z
UID:2257-1749749400-1749753000@recu.org
SUMMARY:FREE WEBINAR - Buy or Rent: Weighing the Pros and Cons
DESCRIPTION:
URL:https://recu.org/event/free-webinar-buy-or-rent-weighing-the-pros-and-cons/
ATTACH;FMTTYPE=image/png:https://recu.org/wp-content/uploads/2025/06/June.png
END:VEVENT
BEGIN:VEVENT
DTSTART;VALUE=DATE:20250516
DTEND;VALUE=DATE:20250517
DTSTAMP:20260420T072047
CREATED:20250512T164610Z
LAST-MODIFIED:20250512T164610Z
UID:1768-1747353600-1747439999@recu.org
SUMMARY:Hawaiian Luau Member Appreciation Day!
DESCRIPTION:
URL:https://recu.org/event/hawaiian-luau-member-appreciation-day/
END:VEVENT
BEGIN:VEVENT
DTSTART;TZID=UTC:20250515T183000
DTEND;TZID=UTC:20250515T193000
DTSTAMP:20260420T072047
CREATED:20250213T162421Z
LAST-MODIFIED:20250213T162421Z
UID:636-1747333800-1747337400@recu.org
SUMMARY:FREE Webinar - DOLLARS AND SENSE: MANAGING MONEY FOR A HEALTHIER MIND
DESCRIPTION:DOLLARS AND SENSE: MANAGING MONEY FOR A HEALTHIER MIND:\n\nDid you know that your financial health can significantly impact your mental well-being? Explore the powerful relationship between money and mental health by diving into how financial stress affects your emotional state and learn how to create a balanced approach to money management\, build financial resilience\, and reduce anxiety around financial decisions. Time: 5:30 p.m. PT / 8:30 p.m. ET CLICK HERE TO REGISTER
URL:https://recu.org/event/webinar-may15/
END:VEVENT
BEGIN:VEVENT
DTSTART;VALUE=DATE:20250508
DTEND;VALUE=DATE:20250511
DTSTAMP:20260420T072047
CREATED:20250325T220715Z
LAST-MODIFIED:20250505T022855Z
UID:1264-1746662400-1746921599@recu.org
SUMMARY:Needles CA Yard Visit
DESCRIPTION:
URL:https://recu.org/event/needles-ca-yard-visit/
END:VEVENT
BEGIN:VEVENT
DTSTART;TZID=UTC:20250506T113000
DTEND;TZID=UTC:20250506T123000
DTSTAMP:20260420T072047
CREATED:20250213T161927Z
LAST-MODIFIED:20250213T162006Z
UID:634-1746531000-1746534600@recu.org
SUMMARY:FREE Webinar - DOLLARS AND SENSE: MANAGING MONEY FOR A HEALTHIER MIND
DESCRIPTION:DOLLARS AND SENSE: MANAGING MONEY FOR A HEALTHIER MIND: Did you know that your financial health can significantly impact your mental well-being? Explore the powerful relationship between money and mental health by diving into how financial stress affects your emotional state and learn how to create a balanced approach to money management\, build financial resilience\, and reduce anxiety around financial decisions. Time: 10:30 a.m. PT / 1:30 p.m. ET CLICK HERE TO REGISTER
URL:https://recu.org/event/webinar-may6/
END:VEVENT
BEGIN:VEVENT
DTSTART;TZID=UTC:20250417T183000
DTEND;TZID=UTC:20250417T193000
DTSTAMP:20260420T072047
CREATED:20250213T161253Z
LAST-MODIFIED:20250213T161326Z
UID:632-1744914600-1744918200@recu.org
SUMMARY:FREE Webinar - ARE YOU FINANCIALLY HEALTHY
DESCRIPTION:ARE YOU FINANCIALLY HEALTHY: We’ll talk about what it means to be financially healthy – which is so much more than just your credit score. True financial health is based on four key components: Spend\, Save\, Borrow\, and Plan. You’ll also confidentially determine your Financial Health Score and the steps to improve that score. Time: 5:30 p.m. PT / 8:30 p.m. ET CLICK HERE TO REGISTER
URL:https://recu.org/event/free-webinar-are-you-financially-healthy/
END:VEVENT
BEGIN:VEVENT
DTSTART;TZID=UTC:20250410T080000
DTEND;TZID=UTC:20250411T130000
DTSTAMP:20260420T072047
CREATED:20250325T220248Z
LAST-MODIFIED:20250505T022117Z
UID:1262-1744272000-1744376400@recu.org
SUMMARY:Amarillo Yard Visit
DESCRIPTION:
URL:https://recu.org/event/amarillo-yard-visit/
END:VEVENT
BEGIN:VEVENT
DTSTART;TZID=UTC:20250409T100000
DTEND;TZID=UTC:20250409T133000
DTSTAMP:20260420T072047
CREATED:20250403T231230Z
LAST-MODIFIED:20250403T231230Z
UID:1477-1744192800-1744205400@recu.org
SUMMARY:Blood Drive
DESCRIPTION:
URL:https://recu.org/event/blood-drive/
END:VEVENT
BEGIN:VEVENT
DTSTART;TZID=UTC:20250408T113000
DTEND;TZID=UTC:20250408T123000
DTSTAMP:20260420T072047
CREATED:20250213T160519Z
LAST-MODIFIED:20250213T160711Z
UID:624-1744111800-1744115400@recu.org
SUMMARY:Free Webinar - ARE YOU FINANCIALLY HEALTHY
DESCRIPTION:ARE YOU FINANCIALLY HEALTHY: We’ll talk about what it means to be financially healthy – which is so much more than just your credit score. True financial health is based on four key components: Spend\, Save\, Borrow\, and Plan. You’ll also confidentially determine your Financial Health Score and the steps to improve that score. Time: 10:30 a.m. PT / 1:30 p.m. ET\n\nCLICK HERE TO REGISTER
URL:https://recu.org/event/free-webinar-april8/
END:VEVENT
BEGIN:VEVENT
DTSTART;TZID=UTC:20250329T100000
DTEND;TZID=UTC:20250329T120000
DTSTAMP:20260420T072047
CREATED:20250304T173039Z
LAST-MODIFIED:20250304T173039Z
UID:1170-1743242400-1743249600@recu.org
SUMMARY:2025 Annual Meeting
DESCRIPTION:
URL:https://recu.org/event/2025annual-meeting/
LOCATION:Rio Event Center\, 19513 NM-314\, Belen\, NM\, 87002\, United States
END:VEVENT
BEGIN:VEVENT
DTSTART;TZID=UTC:20250328T080000
DTEND;TZID=UTC:20250328T160000
DTSTAMP:20260420T072047
CREATED:20250320T230227Z
LAST-MODIFIED:20250327T201429Z
UID:1246-1743148800-1743177600@recu.org
SUMMARY:Belen Yard Visit
DESCRIPTION:Full Name\n				\n			 \n				\n				\n				\n				\n				Phone#\n				\n			 \n				\n				\n				\n				\n				Member#\n				\n			 \n				\n				\n				\n				\n				Belen Raffle\n				\n					\n						Belen Raffle\n						\n							\n							Belen Raffle\n						\n					\n			 \n						\n						\n							\n			\n				\n					1 + 15 = \n				 \n			\n							Submit
URL:https://recu.org/event/belen-yard-visit/
END:VEVENT
BEGIN:VEVENT
DTSTART;VALUE=DATE:20250326
DTEND;VALUE=DATE:20250327
DTSTAMP:20260420T072047
CREATED:20250318T172343Z
LAST-MODIFIED:20250318T172343Z
UID:1200-1742947200-1743033599@recu.org
SUMMARY:CLOSED for Branch Electrical Upgrades
DESCRIPTION:
URL:https://recu.org/event/closed-for-branch-electrical-upgrades/
END:VEVENT
BEGIN:VEVENT
DTSTART;TZID=UTC:20250320T183000
DTEND;TZID=UTC:20250320T193000
DTSTAMP:20260420T072047
CREATED:20250213T155950Z
LAST-MODIFIED:20250213T160640Z
UID:622-1742495400-1742499000@recu.org
SUMMARY:FREE Webinar - TAP INTO WISE CREDIT CARD USE
DESCRIPTION:TAP INTO WISE CREDIT CARD USE: Much like driving a car\, understanding the rules and best practices of credit card use can significantly impact your financial journey. In this session\, uncover the essentials of using credit cards wisely\, from exploring various card types\, interest rates\, and fees\, to finding the card that best suits your needs. Uncover practical strategies for budgeting and managing debt that empower you to use credit cards responsibly. Time: 5:30 p.m. PT / 8:30 p.m. ET click here to register
URL:https://recu.org/event/free-webinar-march20/
END:VEVENT
END:VCALENDAR